BEGIN:VCALENDAR
VERSION:2.0
PRODID:-//Shrewsbury Mountaineering Club - ECPv6.15.14//NONSGML v1.0//EN
CALSCALE:GREGORIAN
METHOD:PUBLISH
X-ORIGINAL-URL:https://shrewsburymc.com
X-WR-CALDESC:Events for Shrewsbury Mountaineering Club
REFRESH-INTERVAL;VALUE=DURATION:PT1H
X-Robots-Tag:noindex
X-PUBLISHED-TTL:PT1H
BEGIN:VTIMEZONE
TZID:Europe/London
BEGIN:DAYLIGHT
TZOFFSETFROM:+0000
TZOFFSETTO:+0100
TZNAME:BST
DTSTART:20250330T010000
END:DAYLIGHT
BEGIN:STANDARD
TZOFFSETFROM:+0100
TZOFFSETTO:+0000
TZNAME:GMT
DTSTART:20251026T010000
END:STANDARD
BEGIN:DAYLIGHT
TZOFFSETFROM:+0000
TZOFFSETTO:+0100
TZNAME:BST
DTSTART:20260329T010000
END:DAYLIGHT
BEGIN:STANDARD
TZOFFSETFROM:+0100
TZOFFSETTO:+0000
TZNAME:GMT
DTSTART:20261025T010000
END:STANDARD
BEGIN:DAYLIGHT
TZOFFSETFROM:+0000
TZOFFSETTO:+0100
TZNAME:BST
DTSTART:20270328T010000
END:DAYLIGHT
BEGIN:STANDARD
TZOFFSETFROM:+0100
TZOFFSETTO:+0000
TZNAME:GMT
DTSTART:20271031T010000
END:STANDARD
END:VTIMEZONE
BEGIN:VEVENT
DTSTART;VALUE=DATE:20260802
DTEND;VALUE=DATE:20260803
DTSTAMP:20260419T225812
CREATED:20251211T124249Z
LAST-MODIFIED:20251211T124249Z
UID:4955-1785628800-1785715199@shrewsburymc.com
SUMMARY:Rhinogs
DESCRIPTION:Steve Lowe
URL:https://shrewsburymc.com/events/rhinogs/
CATEGORIES:Day meet
END:VEVENT
BEGIN:VEVENT
DTSTART;VALUE=DATE:20260816
DTEND;VALUE=DATE:20260817
DTSTAMP:20260419T225812
CREATED:20260112T142012Z
LAST-MODIFIED:20260112T142012Z
UID:4988-1786838400-1786924799@shrewsburymc.com
SUMMARY:Snowdonia
DESCRIPTION:Snowdonia\, exact route TBC \nMark Bayliss
URL:https://shrewsburymc.com/events/snowdonia-2/
CATEGORIES:Day meet
END:VEVENT
BEGIN:VEVENT
DTSTART;VALUE=DATE:20260920
DTEND;VALUE=DATE:20260921
DTSTAMP:20260419T225812
CREATED:20251004T161041Z
LAST-MODIFIED:20251004T161041Z
UID:4847-1789862400-1789948799@shrewsburymc.com
SUMMARY:Carnedd y Filiast
DESCRIPTION:Sunday 20th Sept \nCarnedd y Filiast \nMichael Creese
URL:https://shrewsburymc.com/events/carnedd-y-filiast/
CATEGORIES:Day meet
END:VEVENT
BEGIN:VEVENT
DTSTART;VALUE=DATE:20261004
DTEND;VALUE=DATE:20261005
DTSTAMP:20260419T225812
CREATED:20251004T161153Z
LAST-MODIFIED:20260112T141307Z
UID:4849-1791072000-1791158399@shrewsburymc.com
SUMMARY:Vale of Ewyas Skyline\, Black Mts.
DESCRIPTION:Sunday 4th Oct \nVale of Ewyas Skyline\, The Black Mountains \nJulie Tight \nGospel Pass
URL:https://shrewsburymc.com/events/the-black-mountains/
CATEGORIES:Day meet
END:VEVENT
BEGIN:VEVENT
DTSTART;VALUE=DATE:20261108
DTEND;VALUE=DATE:20261109
DTSTAMP:20260419T225812
CREATED:20251004T162346Z
LAST-MODIFIED:20251004T162346Z
UID:4863-1794096000-1794182399@shrewsburymc.com
SUMMARY:Berwyns
DESCRIPTION:Berwyns \nHeather Smith
URL:https://shrewsburymc.com/events/berwyns-2/
CATEGORIES:Day meet
END:VEVENT
BEGIN:VEVENT
DTSTART;VALUE=DATE:20261129
DTEND;VALUE=DATE:20261130
DTSTAMP:20260419T225812
CREATED:20260112T143058Z
LAST-MODIFIED:20260112T143058Z
UID:4994-1795910400-1795996799@shrewsburymc.com
SUMMARY:North Wales
DESCRIPTION:North Wales – exact location tbc \nLarry King
URL:https://shrewsburymc.com/events/north-wales/
CATEGORIES:Day meet
END:VEVENT
BEGIN:VEVENT
DTSTART;VALUE=DATE:20261220
DTEND;VALUE=DATE:20261221
DTSTAMP:20260419T225812
CREATED:20251004T161544Z
LAST-MODIFIED:20251004T161544Z
UID:4853-1797724800-1797811199@shrewsburymc.com
SUMMARY:Xmas Lunch
DESCRIPTION:Sunday 20th \nStiperstones Walk & Xmas dinner
URL:https://shrewsburymc.com/events/xmas-lunch/
CATEGORIES:Day meet
END:VEVENT
END:VCALENDAR