BEGIN:VCALENDAR
VERSION:2.0
PRODID:-//Shrewsbury Mountaineering Club - ECPv6.15.14//NONSGML v1.0//EN
CALSCALE:GREGORIAN
METHOD:PUBLISH
X-WR-CALNAME:Shrewsbury Mountaineering Club
X-ORIGINAL-URL:https://shrewsburymc.com
X-WR-CALDESC:Events for Shrewsbury Mountaineering Club
REFRESH-INTERVAL;VALUE=DURATION:PT1H
X-Robots-Tag:noindex
X-PUBLISHED-TTL:PT1H
BEGIN:VTIMEZONE
TZID:Europe/London
BEGIN:DAYLIGHT
TZOFFSETFROM:+0000
TZOFFSETTO:+0100
TZNAME:BST
DTSTART:20230326T010000
END:DAYLIGHT
BEGIN:STANDARD
TZOFFSETFROM:+0100
TZOFFSETTO:+0000
TZNAME:GMT
DTSTART:20231029T010000
END:STANDARD
BEGIN:DAYLIGHT
TZOFFSETFROM:+0000
TZOFFSETTO:+0100
TZNAME:BST
DTSTART:20240331T010000
END:DAYLIGHT
BEGIN:STANDARD
TZOFFSETFROM:+0100
TZOFFSETTO:+0000
TZNAME:GMT
DTSTART:20241027T010000
END:STANDARD
BEGIN:DAYLIGHT
TZOFFSETFROM:+0000
TZOFFSETTO:+0100
TZNAME:BST
DTSTART:20250330T010000
END:DAYLIGHT
BEGIN:STANDARD
TZOFFSETFROM:+0100
TZOFFSETTO:+0000
TZNAME:GMT
DTSTART:20251026T010000
END:STANDARD
END:VTIMEZONE
BEGIN:VEVENT
DTSTART;VALUE=DATE:20240804
DTEND;VALUE=DATE:20240805
DTSTAMP:20260419T145509
CREATED:20231104T224543Z
LAST-MODIFIED:20240730T130727Z
UID:4020-1722729600-1722815999@shrewsburymc.com
SUMMARY:Plynlimon\, Cambrian Mountains
DESCRIPTION:Meet coordinator – Lee Campbell \nA repeat visit to the River Severn and the Hafren Forest including the summit of Pumlumun Fawr (Plynlimon)
URL:https://shrewsburymc.com/events/plynlimon-cambrian-mountains/
LOCATION:Cambrian Mountains
CATEGORIES:Day meet
END:VEVENT
BEGIN:VEVENT
DTSTART;VALUE=DATE:20240818
DTEND;VALUE=DATE:20240819
DTSTAMP:20260419T145509
CREATED:20231104T224729Z
LAST-MODIFIED:20231104T224729Z
UID:4023-1723939200-1724025599@shrewsburymc.com
SUMMARY:Snowdonia\, North Wales
DESCRIPTION:Meet coordinators – Tracy and Ken Whyte \nAn opportunity to explore one of the many mountains in Snowdonia\, North Wales.
URL:https://shrewsburymc.com/events/snowdonia-north-wales/
LOCATION:Snowdonia
CATEGORIES:Day meet
END:VEVENT
END:VCALENDAR