BEGIN:VCALENDAR
VERSION:2.0
PRODID:-//Shrewsbury Mountaineering Club - ECPv6.15.14//NONSGML v1.0//EN
CALSCALE:GREGORIAN
METHOD:PUBLISH
X-WR-CALNAME:Shrewsbury Mountaineering Club
X-ORIGINAL-URL:https://shrewsburymc.com
X-WR-CALDESC:Events for Shrewsbury Mountaineering Club
REFRESH-INTERVAL;VALUE=DURATION:PT1H
X-Robots-Tag:noindex
X-PUBLISHED-TTL:PT1H
BEGIN:VTIMEZONE
TZID:Europe/London
BEGIN:DAYLIGHT
TZOFFSETFROM:+0000
TZOFFSETTO:+0100
TZNAME:BST
DTSTART:20250330T010000
END:DAYLIGHT
BEGIN:STANDARD
TZOFFSETFROM:+0100
TZOFFSETTO:+0000
TZNAME:GMT
DTSTART:20251026T010000
END:STANDARD
BEGIN:DAYLIGHT
TZOFFSETFROM:+0000
TZOFFSETTO:+0100
TZNAME:BST
DTSTART:20260329T010000
END:DAYLIGHT
BEGIN:STANDARD
TZOFFSETFROM:+0100
TZOFFSETTO:+0000
TZNAME:GMT
DTSTART:20261025T010000
END:STANDARD
BEGIN:DAYLIGHT
TZOFFSETFROM:+0000
TZOFFSETTO:+0100
TZNAME:BST
DTSTART:20270328T010000
END:DAYLIGHT
BEGIN:STANDARD
TZOFFSETFROM:+0100
TZOFFSETTO:+0000
TZNAME:GMT
DTSTART:20271031T010000
END:STANDARD
END:VTIMEZONE
BEGIN:VEVENT
DTSTART;TZID=Europe/London:20260421T193000
DTEND;TZID=Europe/London:20260421T223000
DTSTAMP:20260421T111341
CREATED:20260201T220934Z
LAST-MODIFIED:20260201T220934Z
UID:5008-1776799800-1776810600@shrewsburymc.com
SUMMARY:Motte & Bailey\, Pulverbatch
DESCRIPTION:SJ422022 \ncroaking.tougher.spots \nhttps://goo.gl/maps/VrYdjUfm3mythGve7 \nCurious about joining Shrewsbury Mountaineering Club and wondering what this regular Tuesday evening is? \nOur Tuesday night walk is a regular\, relaxed meet for anyone based in or around Shrewsbury. We head out every Tuesday\, all year round – light or dark\, rain or shine. \nIt’s as much about being with like-minded people as it is exploring the local area. You don’t need to be an expert mountaineer to come along. New members and prospective members are all welcome\, drop us an email first. \nIf you’re thinking of joining and would like to come along on a Tuesday (or any other meet)\, drop us an email at: \nmembership@shrewsburymc.com
URL:https://shrewsburymc.com/events/motte-bailey-pulverbatch-3/
END:VEVENT
END:VCALENDAR